BEGIN:VCALENDAR
VERSION:2.0
PRODID:-//wp-events-plugin.com//7.2.3.1//EN
TZID:America/St_Johns
X-WR-TIMEZONE:America/St_Johns
BEGIN:VEVENT
UID:167@spcastjohns.org
DTSTART;TZID=America/St_Johns:20260620T100000
DTEND;TZID=America/St_Johns:20260620T140000
DTSTAMP:20260418T182138Z
URL:https://spcastjohns.org/events/movie-event-june-20th-2026/
SUMMARY:Movie Event - June 20th\, 2026
DESCRIPTION:Thank you so much for supporting the SPCA St. John's for our Mo
 vie Event where we will be watching Toy Story 5\n\nWHERE: Scotiabank Theat
 re St. John's - Avalon Mall\n\nWHEN: Saturday\, June 20th at 10:00am \n\n
 MOVIE START TIME: 11:00 am\n\nWHERE CAN I PURCHASE TICKETS?\n\nPurchase Ti
 ckets Here\n\nQUESTIONS? Please email Morgan at volunteer@spcastjohns.org
ATTACH;FMTTYPE=image/jpeg:https://spcastjohns.org/wp-content/uploads/2026/
 04/668196527_1424004739761424_5770929543787844797_n.jpg
LOCATION:Scotiabank Theatre - St. John's - Avalon Mall\, 48 Kenmount Road\,
  St. John's\, Newfoundland\, A1B 1W3\, Canada
X-APPLE-STRUCTURED-LOCATION;VALUE=URI;X-ADDRESS=48 Kenmount Road\, St. John
 's\, Newfoundland\, A1B 1W3\, Canada;X-APPLE-RADIUS=100;X-TITLE=Scotiabank
  Theatre - St. John's - Avalon Mall:geo:0,0
END:VEVENT
BEGIN:VTIMEZONE
TZID:America/St_Johns
X-LIC-LOCATION:America/St_Johns
BEGIN:DAYLIGHT
DTSTART:20260308T030000
TZOFFSETFROM:-0430
TZOFFSETTO:-0330
TZNAME:NDT
END:DAYLIGHT
END:VTIMEZONE
END:VCALENDAR