BEGIN:VCALENDAR
VERSION:2.0
PRODID:-//wp-events-plugin.com//7.2.3.1//EN
TZID:America/St_Johns
X-WR-TIMEZONE:America/St_Johns
BEGIN:VEVENT
UID:140@spcastjohns.org
DTSTART;TZID=America/St_Johns:20250517T110000
DTEND;TZID=America/St_Johns:20250517T133000
DTSTAMP:20250417T173312Z
URL:https://spcastjohns.org/events/puppy-yoga-may-17-2025/
SUMMARY:Puppy Yoga - May 17\, 2025
DESCRIPTION:Puppy yoga is a little like regular yoga. There's just one diff
 erence: there are puppies in the class! \n\nWe can safely say this will b
 e the cutest yoga class you will ever experience\n\nWHERE: Puppy Yoga will
  be hosted at The Wag Club at 1413 Topsail Road in Paradise\n\nWHEN: Satur
 day\, May 17 from 11:00am - 12:00pm &amp\; 12:30pm - 1:30pm\n\nHOW MUCH: T
 ickets are $25. Please note that tickets are non-refundable. Proceeds from
  this event will go to the animal care programs at the SPCA.\n\nWHEN CAN I
  BUY TICKETS? Tickets are on sale NOW!\n\nPurchase Tickets Here \n\nQUEST
 IONS? Please email Morgan at volunteer@spcastjohns.org\n\nWHAT SHOULD I BR
 ING? Please bring with your yoga mat\, a bottle of water\, a camera/phone 
 for selfies\, and a high tolerance for cuteness!\n\n**Please note: only ou
 r SPCA puppies are allowed at this event. We love dogs &amp\; cats\, but w
 e ask that you please leave your furry friends at home.
ATTACH;FMTTYPE=image/jpeg:https://spcastjohns.org/wp-content/uploads/2025/
 04/Puppy-Yoga.png
LOCATION:The Wag Club\, 1413 Topsail Road \, Paradise\, Newfoundland\, A1L 
 1H7\, Canada
X-APPLE-STRUCTURED-LOCATION;VALUE=URI;X-ADDRESS=1413 Topsail Road \, Paradi
 se\, Newfoundland\, A1L 1H7\, Canada;X-APPLE-RADIUS=100;X-TITLE=The Wag Cl
 ub:geo:0,0
END:VEVENT
BEGIN:VTIMEZONE
TZID:America/St_Johns
X-LIC-LOCATION:America/St_Johns
BEGIN:DAYLIGHT
DTSTART:20250309T030000
TZOFFSETFROM:-0430
TZOFFSETTO:-0330
TZNAME:NDT
END:DAYLIGHT
END:VTIMEZONE
END:VCALENDAR